BEGIN:VCALENDAR
VERSION:2.0
PRODID:-//906 Cocktail and Cigar Lounge - ECPv6.15.20//NONSGML v1.0//EN
CALSCALE:GREGORIAN
METHOD:PUBLISH
X-ORIGINAL-URL:https://906lounge.com
X-WR-CALDESC:Events for 906 Cocktail and Cigar Lounge
REFRESH-INTERVAL;VALUE=DURATION:PT1H
X-Robots-Tag:noindex
X-PUBLISHED-TTL:PT1H
BEGIN:VTIMEZONE
TZID:America/Chicago
BEGIN:DAYLIGHT
TZOFFSETFROM:-0600
TZOFFSETTO:-0500
TZNAME:CDT
DTSTART:20250309T080000
END:DAYLIGHT
BEGIN:STANDARD
TZOFFSETFROM:-0500
TZOFFSETTO:-0600
TZNAME:CST
DTSTART:20251102T070000
END:STANDARD
BEGIN:DAYLIGHT
TZOFFSETFROM:-0600
TZOFFSETTO:-0500
TZNAME:CDT
DTSTART:20260308T080000
END:DAYLIGHT
BEGIN:STANDARD
TZOFFSETFROM:-0500
TZOFFSETTO:-0600
TZNAME:CST
DTSTART:20261101T070000
END:STANDARD
BEGIN:DAYLIGHT
TZOFFSETFROM:-0600
TZOFFSETTO:-0500
TZNAME:CDT
DTSTART:20270314T080000
END:DAYLIGHT
BEGIN:STANDARD
TZOFFSETFROM:-0500
TZOFFSETTO:-0600
TZNAME:CST
DTSTART:20271107T070000
END:STANDARD
END:VTIMEZONE
BEGIN:VEVENT
DTSTART;TZID=America/Chicago:20260514T190000
DTEND;TZID=America/Chicago:20260514T220000
DTSTAMP:20260424T165520
CREATED:20260314T022506Z
LAST-MODIFIED:20260314T022506Z
UID:10000719-1778785200-1778796000@906lounge.com
SUMMARY:Don Bailey Trio
DESCRIPTION:Don Bailey\nMaster of multiple brass and wind instruments!\nDon Bailey has performed with The Temptations\, The Four Tops\, the Jimmy Dorsey Orchestra\, the Tommy Dorsey Orchestra\, Dizzy Gillespie\, Steve Allen\, Lucie Arnaz\, the New York Voices\, Tommy Newsom\, Marvin Hamlisch\, Phil Driscoll and other nationally acclaimed artists. He also has opened for Christian music artist Clay Cross and country music artist Randy Travis.\nDon Bailey is an Associate Professor of Music and the Director of Jazz Studies at the University of Arkansas in Fort Smith\, teaching since 1985. He helped develop the curriculum for a “Jazz Studies” concentration associated with the Bachelor of Arts in Music degree. Bailey teaches all of the core jazz courses\, including music theory.\nDon is active as a clinician and adjudicator throughout Arkansas and Oklahoma. He developed the first comprehensive summer Jazz Band Camp in Arkansas\, and he developed a Jazz Improv for Strings camp for orchestral strings—one of only a handful in the country. Both camps have grown under his direction and attract students from Arkansas\, Oklahoma and Texas.\nA native of New Jersey\, Bailey received his formative music education performing as a freelance musician in New York and his home state. He earned his Bachelor of Music Education degree from Iowa Wesleyan College (Mount Pleasant) and his Master of Arts in Music degree from the University of Northern Iowa (Cedar Falls)\, where he served as teaching assistant in Jazz Studies under Dr. Bob Washut.\nIn 2007\, Don received the annual (Fort Smith) “Mayor’s Honors to the Visual and Performing Arts.” He was included in Who’s Who in America for 2008 and in the 2009 edition of Who’s Who in the World\, and received the “Who’s Who Among America’s Teachers” award in 1998\, 2002\, 2004 and 2005. He also earned the “Excellence in Teaching Award” at Westark College (now UAFS) in 1987\, and the “National Teaching Excellence Award” from The University of Texas at Austin in 1989.\nDon has served two terms as president of the Arkansas Unit of the International Association for Jazz Education\, and has represented the state at regional and national jazz events. He also is on the teaching staff of the International Worship Institute in Dallas.\nHe is president and co-founder (with his wife\, Terri) of “New Song Music Company”\, through which they publish their original musical compositions. Together\, they have written numerous solos\, vocal choruses\, and background tracks for ensembles\, jazz band\, and vocal ensemble music\, as well as written and produced several background tracks of familiar hymns used for instrumental performances. Their latest and most extensive work is “Jazz Suite: A Retrospective.”\, a 12-movement jazz piece performed by the Fort Smith Symphony.
URL:https://906lounge.com/event/don-bailey-trio/
LOCATION:906 Cocktail and Cigar Lounge\, 906 GARRISON AVENUE\, Fort Smith\, AR\, 72901\, United States
CATEGORIES:Live Music
ATTACH;FMTTYPE=image/png:https://906lounge.com/wp-content/uploads/2025/01/Don-Bailey-Combo.png
ORGANIZER;CN="906 Lounge":MAILTO:906lounge@gmail.com
END:VEVENT
END:VCALENDAR