BEGIN:VCALENDAR
VERSION:2.0
PRODID:-//906 Cocktail and Cigar Lounge - ECPv6.15.20//NONSGML v1.0//EN
CALSCALE:GREGORIAN
METHOD:PUBLISH
X-WR-CALNAME:906 Cocktail and Cigar Lounge
X-ORIGINAL-URL:https://906lounge.com
X-WR-CALDESC:Events for 906 Cocktail and Cigar Lounge
REFRESH-INTERVAL;VALUE=DURATION:PT1H
X-Robots-Tag:noindex
X-PUBLISHED-TTL:PT1H
BEGIN:VTIMEZONE
TZID:America/Chicago
BEGIN:DAYLIGHT
TZOFFSETFROM:-0600
TZOFFSETTO:-0500
TZNAME:CDT
DTSTART:20250309T080000
END:DAYLIGHT
BEGIN:STANDARD
TZOFFSETFROM:-0500
TZOFFSETTO:-0600
TZNAME:CST
DTSTART:20251102T070000
END:STANDARD
BEGIN:DAYLIGHT
TZOFFSETFROM:-0600
TZOFFSETTO:-0500
TZNAME:CDT
DTSTART:20260308T080000
END:DAYLIGHT
BEGIN:STANDARD
TZOFFSETFROM:-0500
TZOFFSETTO:-0600
TZNAME:CST
DTSTART:20261101T070000
END:STANDARD
BEGIN:DAYLIGHT
TZOFFSETFROM:-0600
TZOFFSETTO:-0500
TZNAME:CDT
DTSTART:20270314T080000
END:DAYLIGHT
BEGIN:STANDARD
TZOFFSETFROM:-0500
TZOFFSETTO:-0600
TZNAME:CST
DTSTART:20271107T070000
END:STANDARD
END:VTIMEZONE
BEGIN:VEVENT
DTSTART;TZID=America/Chicago:20260228T200000
DTEND;TZID=America/Chicago:20260301T000000
DTSTAMP:20260424T150117
CREATED:20260129T192200Z
LAST-MODIFIED:20260129T210212Z
UID:10000627-1772308800-1772323200@906lounge.com
SUMMARY:Tabitha Graves & Guests
DESCRIPTION:Tabitha Graves with special guests Felipe Antonio and Bruce Hawley.\nTabitha\, an acclaimed jazz vocalist known for her versatility across styles\, will team up with local pianist Bruce Hawley from After Five Jazz and Latin jazz guitarist Felipe Antonio for a memorable performance with a Latin flair. This newly formed ensemble debuts at 906\, promising an exciting show featuring beloved artists in a fresh collaboration.
URL:https://906lounge.com/event/tabitha-graves-guests/
LOCATION:906 Cocktail and Cigar Lounge\, 906 GARRISON AVENUE\, Fort Smith\, AR\, 72901\, United States
CATEGORIES:Live Music
ATTACH;FMTTYPE=image/jpeg:https://906lounge.com/wp-content/uploads/2026/01/Tabitha-2.jpg
ORGANIZER;CN="906 Lounge":MAILTO:906lounge@gmail.com
END:VEVENT
END:VCALENDAR